BEGIN:VCALENDAR
VERSION:2.0
PRODID:-//Kindertagesstätte St. Elisabeth Thulba - ECPv6.15.17//NONSGML v1.0//EN
CALSCALE:GREGORIAN
METHOD:PUBLISH
X-WR-CALNAME:Kindertagesstätte St. Elisabeth Thulba
X-ORIGINAL-URL:https://www.kita-thulba.de
X-WR-CALDESC:Veranstaltungen für Kindertagesstätte St. Elisabeth Thulba
REFRESH-INTERVAL;VALUE=DURATION:PT1H
X-Robots-Tag:noindex
X-PUBLISHED-TTL:PT1H
BEGIN:VTIMEZONE
TZID:Europe/Berlin
BEGIN:DAYLIGHT
TZOFFSETFROM:+0100
TZOFFSETTO:+0200
TZNAME:CEST
DTSTART:20250330T010000
END:DAYLIGHT
BEGIN:STANDARD
TZOFFSETFROM:+0200
TZOFFSETTO:+0100
TZNAME:CET
DTSTART:20251026T010000
END:STANDARD
BEGIN:DAYLIGHT
TZOFFSETFROM:+0100
TZOFFSETTO:+0200
TZNAME:CEST
DTSTART:20260329T010000
END:DAYLIGHT
BEGIN:STANDARD
TZOFFSETFROM:+0200
TZOFFSETTO:+0100
TZNAME:CET
DTSTART:20261025T010000
END:STANDARD
BEGIN:DAYLIGHT
TZOFFSETFROM:+0100
TZOFFSETTO:+0200
TZNAME:CEST
DTSTART:20270328T010000
END:DAYLIGHT
BEGIN:STANDARD
TZOFFSETFROM:+0200
TZOFFSETTO:+0100
TZNAME:CET
DTSTART:20271031T010000
END:STANDARD
END:VTIMEZONE
BEGIN:VEVENT
DTSTART;TZID=Europe/Berlin:20260515T070000
DTEND;TZID=Europe/Berlin:20260515T130000
DTSTAMP:20260421T154201
CREATED:20250710T122913Z
LAST-MODIFIED:20250710T123303Z
UID:10000094-1778828400-1778850000@www.kita-thulba.de
SUMMARY:Brückentag_Einrichtung ist geschlossen
DESCRIPTION:
URL:https://www.kita-thulba.de/event/brueckentag_einrichtung-ist-geschlossen/
END:VEVENT
BEGIN:VEVENT
DTSTART;TZID=Europe/Berlin:20260521T193000
DTEND;TZID=Europe/Berlin:20260521T203000
DTSTAMP:20260421T154201
CREATED:20260326T043835Z
LAST-MODIFIED:20260326T043835Z
UID:10000111-1779391800-1779395400@www.kita-thulba.de
SUMMARY:Jahreshauptversammlung des Elisabethenvereins Thulba e. V.
DESCRIPTION:Liebe Mitglieder des Elisabethenvereins\, liebe Interessierte \nHerzliche Einladung ergeht an Sie zu unserer Jahreshauptversammlung am 21. Mai um 19.30 Uhr. \nOrt: Kindertagesstätte Thulba
URL:https://www.kita-thulba.de/event/jahreshauptversammlung-des-elisabethenvereins-thulba-e-v/
END:VEVENT
BEGIN:VEVENT
DTSTART;TZID=Europe/Berlin:20260526T070000
DTEND;TZID=Europe/Berlin:20260529T130000
DTSTAMP:20260421T154201
CREATED:20250710T123009Z
LAST-MODIFIED:20250710T123009Z
UID:10000095-1779778800-1780059600@www.kita-thulba.de
SUMMARY:Pfingstferien 2026
DESCRIPTION:
URL:https://www.kita-thulba.de/event/pfingstferien-2026/
END:VEVENT
END:VCALENDAR